BEGIN:VCALENDAR
VERSION:2.0
PRODID:-//Vlaardingen4Palestina - ECPv6.15.20//NONSGML v1.0//EN
CALSCALE:GREGORIAN
METHOD:PUBLISH
X-ORIGINAL-URL:https://vlaardingen4palestina.nl
X-WR-CALDESC:Evenementen voor Vlaardingen4Palestina
REFRESH-INTERVAL;VALUE=DURATION:PT1H
X-Robots-Tag:noindex
X-PUBLISHED-TTL:PT1H
BEGIN:VTIMEZONE
TZID:UTC
BEGIN:STANDARD
TZOFFSETFROM:+0000
TZOFFSETTO:+0000
TZNAME:UTC
DTSTART:20250101T000000
END:STANDARD
END:VTIMEZONE
BEGIN:VEVENT
DTSTART;TZID=UTC:20260504T190000
DTEND;TZID=UTC:20260504T213000
DTSTAMP:20260425T153534
CREATED:20260425T114310Z
LAST-MODIFIED:20260425T114539Z
UID:212-1777921200-1777930200@vlaardingen4palestina.nl
SUMMARY:Inclusieve dodenherdenking op 4 mei
DESCRIPTION:Op 4 mei worden er in deze regio twee inclusieve dodenherdenkingen georganiseerd. \nHierbij worden alle slachtoffers van genociden en oorlogen herdacht; ongeacht geloof\, cultuur of afkomst. Zowel van vroeger als van nu. \nIn Rotterdam is er Herdenken zonder grenzen en in Den Haag 4 mei inclusief. \nMeer informatie: \n \nRotterdam \nLocatie: Sint-Jobsweg 3 \nAanvang: 19:00 (inloop 18:30) \nhttps://www.rotterdampalestinacoalitie.nl/events/4-mei-herdenken-zonder-grenzen/ \n  \n \nDen Haag \nLocatie: Lange Voorhout \nAanvang: 19:00 \nhttps://4meinclusief.nl \n  \n 
URL:https://vlaardingen4palestina.nl/?tribe_events=inclusieve-dodenherdenking-op-4-mei
END:VEVENT
BEGIN:VEVENT
DTSTART;TZID=UTC:20260516T000000
DTEND;TZID=UTC:20260516T235959
DTSTAMP:20260425T153534
CREATED:20260422T101656Z
LAST-MODIFIED:20260422T101745Z
UID:208-1778889600-1778975999@vlaardingen4palestina.nl
SUMMARY:Nakba dag
DESCRIPTION:Op 16 mei wordt op de Dam Nakba Day 2026 georganiseerd\, waarop de Nakba wordt herdacht. \nOok is er aandacht voor de toekomst. Op naar een vrij Palestina! \nZie ook: https://www.instagram.com/p/DXYtPYtis7O/
URL:https://vlaardingen4palestina.nl/?tribe_events=nakba-dag
LOCATION:Dam\, Dam\, Amsterdam\, Noord-Holland\, 1012 RJ\, Netherlands
END:VEVENT
BEGIN:VEVENT
DTSTART;TZID=UTC:20261114T110000
DTEND;TZID=UTC:20270530T170000
DTSTAMP:20260425T153534
CREATED:20260409T111623Z
LAST-MODIFIED:20260409T111623Z
UID:200-1794654000-1811696400@vlaardingen4palestina.nl
SUMMARY:Tentoonstelling Susanne Khalil Yusef
DESCRIPTION:In het Stedelijk Museum in Schiedam is van 14 november 2026 t/m 30 mei 2027 de tentoonstelling te zien van de Palestijnse kunstenaar Susanne Khalil Yusef. Haar familie is gevlucht uit Jaffa in 1948\, tijdens de Nakba. Om deze expositie vorm te geven\, heeft zij samen gewerkt met de lokale Palestijnse gemeenschap. Momenteel hangt er al een indrukwekkend kunstwerk van haar in het museum: een glas geblazen zin in het Arabisch\, die “Wij willen leven” betekent. \n \nMeer informatie over de tentoonstelling: \nhttps://stedelijkmuseumschiedam.nl/tentoonstelling/susanne-khalil-yusef/ \n  \n  \n  \n 
URL:https://vlaardingen4palestina.nl/?tribe_events=tentoonstelling-susanne-khalil-yusef
LOCATION:Stedelijk Museum Schiedam\, Hoogstraat 112\, Schiedam\, Zuid-Holland\, 3111 HL\, Netherlands
ORGANIZER;CN="Stedelijk Museum Schiedam":MAILTO:info@stedelijkmuseumschiedam.nl
END:VEVENT
END:VCALENDAR